BEGIN:VCALENDAR
VERSION:2.0
PRODID:-//BelPortas e BelSolar - Equipamentos de Segurança e BelSolar Energia Fotovoltaica - ECPv6.13.2.1//NONSGML v1.0//EN
CALSCALE:GREGORIAN
METHOD:PUBLISH
X-ORIGINAL-URL:https://belportas.com.br
X-WR-CALDESC:Events for BelPortas e BelSolar - Equipamentos de Segurança e BelSolar Energia Fotovoltaica
REFRESH-INTERVAL;VALUE=DURATION:PT1H
X-Robots-Tag:noindex
X-PUBLISHED-TTL:PT1H
BEGIN:VTIMEZONE
TZID:UTC
BEGIN:STANDARD
TZOFFSETFROM:+0000
TZOFFSETTO:+0000
TZNAME:UTC
DTSTART:20240101T000000
END:STANDARD
END:VTIMEZONE
BEGIN:VEVENT
DTSTART;TZID=UTC:20241024T091500
DTEND;TZID=UTC:20241024T170000
DTSTAMP:20260423T171802
CREATED:20241007T172443Z
LAST-MODIFIED:20241007T172443Z
UID:1972-1729761300-1729789200@belportas.com.br
SUMMARY:Treinamento Técnico em Comunicação Condominial IP
DESCRIPTION:Caro amigo instalador\, \nVenha participar do próximo treinamento “Técnico em Comunicação Condominial IP” Intelbras\, na nossa unidade de Volta Redonda. \nCom almoço incluído! \nClique no botão abaixo para garantir sua inscrição!
URL:https://belportas.com.br/treinamentos/treinamento-tecnico-em-comunicacao-condominial-ip/
LOCATION:BelPortas Volta Redonda Novo Endereço\, Rua Cincinato Braga 120\, Aterrado\, Volta Redonda\, Rio de Janeiro\, 27.213-040\, Brasil
ATTACH;FMTTYPE=image/jpeg:https://belportas.com.br/wp-content/uploads/2024/10/treinamentos-belportas1600-x-900-px-356-x-200-px-20.jpg
END:VEVENT
BEGIN:VEVENT
DTSTART;TZID=UTC:20241022T090000
DTEND;TZID=UTC:20241022T170000
DTSTAMP:20260423T171802
CREATED:20240927T164134Z
LAST-MODIFIED:20240927T164134Z
UID:1948-1729587600-1729616400@belportas.com.br
SUMMARY:Treinamento Integração entre Alarmes CFTV
DESCRIPTION:Caro amigo instalador\, \nVenha participar do próximo treinamento “Integração entre Alarmes CFTV” Intelbras\, na nossa unidade de Nova Friburgo. \nCom almoço incluído! \nClique no botão abaixo para garantir sua inscrição!
URL:https://belportas.com.br/treinamentos/treinamento-integracao-entre-alarmes-cftv/
LOCATION:BelPortas Nova Friburgo\, Alameda Barão de Nova Friburgo\, 135 - Olaria\, Nova Friburgo\, RJ\, 28623-060\, Brasil
ATTACH;FMTTYPE=image/jpeg:https://belportas.com.br/wp-content/uploads/2024/09/52.jpg
END:VEVENT
BEGIN:VEVENT
DTSTART;TZID=UTC:20241017T090000
DTEND;TZID=UTC:20241017T170000
DTSTAMP:20260423T171802
CREATED:20240927T165254Z
LAST-MODIFIED:20240927T165254Z
UID:1964-1729155600-1729184400@belportas.com.br
SUMMARY:Treinamento Central UNNIT
DESCRIPTION:Caro amigo instalador\, \nVenha participar do próximo treinamento “Central UNNIT” Intelbras\, na nossa unidade de Araruama. \nCom almoço incluído! \nClique no botão abaixo para garantir sua inscrição!
URL:https://belportas.com.br/treinamentos/treinamento-central-unnit/
LOCATION:BelPortas Araruama\, Av. Getúlio Vargas\, 1198 - Loja 102 - Parque Hotel\, Araruama\, Rio de Janeiro\, 28979-971\, Brasil
ATTACH;FMTTYPE=image/jpeg:https://belportas.com.br/wp-content/uploads/2024/09/56.jpg
END:VEVENT
BEGIN:VEVENT
DTSTART;TZID=UTC:20241016T090000
DTEND;TZID=UTC:20241016T170000
DTSTAMP:20260423T171802
CREATED:20240927T165120Z
LAST-MODIFIED:20240927T165120Z
UID:1960-1729069200-1729098000@belportas.com.br
SUMMARY:Treinamento Soluções de Comunicação IP para Condomínios e Elevadores
DESCRIPTION:Caro amigo instalador\, \nVenha participar do próximo treinamento “Soluções de Comunicação IP para Condomínios e Elevadores” Intelbras\, na nossa unidade de Araruama. \nCom almoço incluído! \nClique no botão abaixo para garantir sua inscrição!
URL:https://belportas.com.br/treinamentos/treinamento-solucoes-de-comunicacao-ip-para-condominios-e-elevadores/
LOCATION:BelPortas Araruama\, Av. Getúlio Vargas\, 1198 - Loja 102 - Parque Hotel\, Araruama\, Rio de Janeiro\, 28979-971\, Brasil
ATTACH;FMTTYPE=image/jpeg:https://belportas.com.br/wp-content/uploads/2024/09/55.jpg
END:VEVENT
BEGIN:VEVENT
DTSTART;TZID=UTC:20241008T090000
DTEND;TZID=UTC:20241008T170000
DTSTAMP:20260423T171802
CREATED:20240906T125745Z
LAST-MODIFIED:20240906T125745Z
UID:1926-1728378000-1728406800@belportas.com.br
SUMMARY:Treinamento Carregadores para Veículos Elétricos
DESCRIPTION:Caro amigo instalador\, \nVenha participar do próximo treinamento “Carregadores para Veículos Elétricos” Intelbras\, na nossa unidade de Cabo Frio. \nCom almoço incluído! \nClique no botão abaixo para garantir sua inscrição!
URL:https://belportas.com.br/treinamentos/treinamento-carregadores-para-veiculos-eletricos/
LOCATION:BelPortas Cabo Frio\, R. Los Angeles\, 70 – Loja 1 – Jardim Olinda\, Cabo Frio\, Rio de Janeiro\, 28911-050\, Brasil
ATTACH;FMTTYPE=image/jpeg:https://belportas.com.br/wp-content/uploads/2024/09/treinamentos-belportas1600-x-900-px-356-x-200-px-15.jpg
END:VEVENT
BEGIN:VEVENT
DTSTART;TZID=UTC:20240927T090000
DTEND;TZID=UTC:20240927T170000
DTSTAMP:20260423T171802
CREATED:20240916T184850Z
LAST-MODIFIED:20240916T184850Z
UID:1939-1727427600-1727456400@belportas.com.br
SUMMARY:Treinamento Sistema de Detecção de Alarme e Incêndio
DESCRIPTION:Caro amigo instalador\, \nVenha participar do próximo treinamento “Sistema de Detecção de Alarme e Incêndio” Intelbras\, na nossa unidade de Volta Redonda. \nCom almoço e certificado incluídos! \nClique no botão abaixo para garantir sua inscrição!
URL:https://belportas.com.br/treinamentos/treinamento-sistema-de-deteccao-de-alarme-e-incendio-2/
LOCATION:BelPortas Volta Redonda Novo Endereço\, Rua Cincinato Braga 120\, Aterrado\, Volta Redonda\, Rio de Janeiro\, 27.213-040\, Brasil
ATTACH;FMTTYPE=image/jpeg:https://belportas.com.br/wp-content/uploads/2024/09/treinamentos-belportas1600-x-900-px-356-x-200-px-18.jpg
END:VEVENT
BEGIN:VEVENT
DTSTART;TZID=UTC:20240926T090000
DTEND;TZID=UTC:20240926T170000
DTSTAMP:20260423T171802
CREATED:20240916T184630Z
LAST-MODIFIED:20240916T184630Z
UID:1935-1727341200-1727370000@belportas.com.br
SUMMARY:Treinamento Controladores de Acesso Facial
DESCRIPTION:Caro amigo instalador\, \nVenha participar do próximo treinamento “Controladores de Acesso Facial” Intelbras\, na nossa unidade de Volta Redonda. \nCom almoço e certificado incluídos! \nClique no botão abaixo para garantir sua inscrição!
URL:https://belportas.com.br/treinamentos/treinamento-controladores-de-acesso-facial-2/
LOCATION:BelPortas Volta Redonda Novo Endereço\, Rua Cincinato Braga 120\, Aterrado\, Volta Redonda\, Rio de Janeiro\, 27.213-040\, Brasil
ATTACH;FMTTYPE=image/jpeg:https://belportas.com.br/wp-content/uploads/2024/09/treinamentos-belportas1600-x-900-px-356-x-200-px-19.jpg
END:VEVENT
BEGIN:VEVENT
DTSTART;TZID=UTC:20240925T080000
DTEND;TZID=UTC:20240925T170000
DTSTAMP:20260423T171802
CREATED:20240801T201836Z
LAST-MODIFIED:20240801T201836Z
UID:1855-1727251200-1727283600@belportas.com.br
SUMMARY:Treinamento Aplicação de Controle de Acesso\, CFTV e Intrusão
DESCRIPTION:Caro amigo instalador\, \nVenha participar do próximo treinamento “Treinamento Aplicação de Controle de Acesso\, CFTV e Intrusão” Intelbras\, na nossa unidade de Petrópolis. \nCom almoço incluído! \nClique no botão abaixo para garantir sua inscrição!
URL:https://belportas.com.br/treinamentos/treinamento-aplicacao-de-controle-de-acesso-cftv-e-intrusao/
LOCATION:Bel Portas Petrópolis\, R. Hyvio Naliato\, 559 - Cascatinha\, Petrópolis\, Rio de Janeiro\, 25710-193\, Brasil
ATTACH;FMTTYPE=image/jpeg:https://belportas.com.br/wp-content/uploads/2024/08/treinamentos-belportas1600-x-900-px-356-x-200-px-7.jpg
END:VEVENT
BEGIN:VEVENT
DTSTART;TZID=UTC:20240924T080000
DTEND;TZID=UTC:20240924T170000
DTSTAMP:20260423T171802
CREATED:20240801T202118Z
LAST-MODIFIED:20240801T202118Z
UID:1859-1727164800-1727197200@belportas.com.br
SUMMARY:Treinamento Controladores De Acesso Facial
DESCRIPTION:Caro amigo instalador\, \nVenha participar do próximo treinamento “Treinamento Controladores De Acesso Facial” Intelbras\, na nossa unidade de Petrópolis. \nCom almoço incluído! \nClique no botão abaixo para garantir sua inscrição!
URL:https://belportas.com.br/treinamentos/treinamento-controladores-de-acesso-facial/
LOCATION:Bel Portas Petrópolis\, R. Hyvio Naliato\, 559 - Cascatinha\, Petrópolis\, Rio de Janeiro\, 25710-193\, Brasil
ATTACH;FMTTYPE=image/jpeg:https://belportas.com.br/wp-content/uploads/2024/08/treinamentos-belportas1600-x-900-px-356-x-200-px-6.jpg
END:VEVENT
BEGIN:VEVENT
DTSTART;TZID=UTC:20240923T080000
DTEND;TZID=UTC:20240923T170000
DTSTAMP:20260423T171802
CREATED:20240801T202631Z
LAST-MODIFIED:20240801T202631Z
UID:1867-1727078400-1727110800@belportas.com.br
SUMMARY:Treinamento Centrais Collective
DESCRIPTION:Caro amigo instalador\, \nVenha participar do próximo treinamento “Treinamento Centrais Collective ” Intelbras\, na nossa unidade de Nova Friburgo. \nCom almoço incluído! \nClique no botão abaixo para garantir sua inscrição!
URL:https://belportas.com.br/treinamentos/treinamento-centrais-collective-2/
LOCATION:BelPortas Nova Friburgo\, Alameda Barão de Nova Friburgo\, 135 - Olaria\, Nova Friburgo\, RJ\, 28623-060\, Brasil
ATTACH;FMTTYPE=image/jpeg:https://belportas.com.br/wp-content/uploads/2024/08/treinamentos-belportas1600-x-900-px-356-x-200-px-5.jpg
END:VEVENT
BEGIN:VEVENT
DTSTART;TZID=UTC:20240918T090000
DTEND;TZID=UTC:20240918T170000
DTSTAMP:20260423T171802
CREATED:20240809T125256Z
LAST-MODIFIED:20240809T125256Z
UID:1897-1726650000-1726678800@belportas.com.br
SUMMARY:Treinamento Solar Off-Grid
DESCRIPTION:Caro amigo instalador\, \nVenha participar do próximo treinamento “Treinamento Solar Off-Grid” Intelbras\, na nossa unidade de Nova Friburgo. \nCom almoço incluído! \nClique no botão abaixo para garantir sua inscrição!
URL:https://belportas.com.br/treinamentos/treinamento-solar-off-grid/
LOCATION:BelPortas Nova Friburgo\, Alameda Barão de Nova Friburgo\, 135 - Olaria\, Nova Friburgo\, RJ\, 28623-060\, Brasil
ATTACH;FMTTYPE=image/jpeg:https://belportas.com.br/wp-content/uploads/2024/08/treinamentos-belportas1600-x-900-px-356-x-200-px-11.jpg
END:VEVENT
BEGIN:VEVENT
DTSTART;TZID=UTC:20240909T090000
DTEND;TZID=UTC:20240909T170000
DTSTAMP:20260423T171802
CREATED:20240830T124914Z
LAST-MODIFIED:20240830T124914Z
UID:1922-1725872400-1725901200@belportas.com.br
SUMMARY:Treinamento CFTV IP
DESCRIPTION:Caro amigo instalador\, \nVenha participar do próximo treinamento “Treinamento CFTV IP” Intelbras\, na nossa unidade de Nova Friburgo. \nCom almoço e certificado incluídos! \nClique no botão abaixo para garantir sua inscrição! \n 
URL:https://belportas.com.br/treinamentos/treinamento-cftv-ip/
LOCATION:BelPortas Nova Friburgo\, Alameda Barão de Nova Friburgo\, 135 - Olaria\, Nova Friburgo\, RJ\, 28623-060\, Brasil
ATTACH;FMTTYPE=image/jpeg:https://belportas.com.br/wp-content/uploads/2024/08/treinamentos-belportas1600-x-900-px-356-x-200-px-14.jpg
END:VEVENT
BEGIN:VEVENT
DTSTART;TZID=UTC:20240909T080000
DTEND;TZID=UTC:20240909T170000
DTSTAMP:20260423T171802
CREATED:20240801T202959Z
LAST-MODIFIED:20240801T202959Z
UID:1871-1725868800-1725901200@belportas.com.br
SUMMARY:Treinamento Técnico em Inteligência de Vídeo em Câmera IP
DESCRIPTION:Caro amigo instalador\, \nVenha participar do próximo treinamento “Treinamento Técnico em Inteligência de Vídeo em Câmera IP” Intelbras\, na nossa unidade de Nova Friburgo. \nCom almoço incluído! \nClique no botão abaixo para garantir sua inscrição!
URL:https://belportas.com.br/treinamentos/treinamento-tecnico-em-inteligencia-de-video-em-camera-ip/
LOCATION:BelPortas Nova Friburgo\, Alameda Barão de Nova Friburgo\, 135 - Olaria\, Nova Friburgo\, RJ\, 28623-060\, Brasil
ATTACH;FMTTYPE=image/jpeg:https://belportas.com.br/wp-content/uploads/2024/08/treinamentos-belportas1600-x-900-px-356-x-200-px-3.jpg
END:VEVENT
BEGIN:VEVENT
DTSTART;TZID=UTC:20240829T090000
DTEND;TZID=UTC:20240829T160000
DTSTAMP:20260423T171802
CREATED:20240801T200746Z
LAST-MODIFIED:20240801T200746Z
UID:1846-1724922000-1724947200@belportas.com.br
SUMMARY:Treinamento Simply Connect Rossi
DESCRIPTION:Caro amigo instalador\, \nVenha participar do próximo treinamento “Simply Connect Rossi”\, na nossa unidade de Volta Redonda. \nCom almoço incluído! \nClique no botão abaixo para garantir sua inscrição!
URL:https://belportas.com.br/treinamentos/treinamento-simply-connect-rossi/
LOCATION:BelPortas Volta Redonda Novo Endereço\, Rua Cincinato Braga 120\, Aterrado\, Volta Redonda\, Rio de Janeiro\, 27.213-040\, Brasil
ATTACH;FMTTYPE=image/jpeg:https://belportas.com.br/wp-content/uploads/2024/08/treinamentos-belportas1600-x-900-px-356-x-200-px-9.jpg
END:VEVENT
BEGIN:VEVENT
DTSTART;TZID=UTC:20240829T080000
DTEND;TZID=UTC:20240829T170000
DTSTAMP:20260423T171802
CREATED:20240816T120139Z
LAST-MODIFIED:20240816T120139Z
UID:1917-1724918400-1724950800@belportas.com.br
SUMMARY:Treinamento Centrais Collective I
DESCRIPTION:Caro amigo instalador\, \nVenha participar do próximo treinamento “Treinamento Centrais Collective I” Intelbras\, na nossa unidade de Petrópolis. \nCom almoço e certificado incluídos! \nClique no botão abaixo para garantir sua inscrição!
URL:https://belportas.com.br/treinamentos/treinamento-centrais-collective-i-2/
LOCATION:Bel Portas Petrópolis\, R. Hyvio Naliato\, 559 - Cascatinha\, Petrópolis\, Rio de Janeiro\, 25710-193\, Brasil
ATTACH;FMTTYPE=image/jpeg:https://belportas.com.br/wp-content/uploads/2024/08/treinamentos-belportas1600-x-900-px-356-x-200-px-13.jpg
END:VEVENT
BEGIN:VEVENT
DTSTART;TZID=UTC:20240829T080000
DTEND;TZID=UTC:20240829T170000
DTSTAMP:20260423T171802
CREATED:20240801T202401Z
LAST-MODIFIED:20240801T202401Z
UID:1863-1724918400-1724950800@belportas.com.br
SUMMARY:Treinamento Centrais Collective
DESCRIPTION:Caro amigo instalador\, \nVenha participar do próximo treinamento “Treinamento Centrais Collective ” Intelbras\, na nossa unidade de Petrópolis. \nCom almoço incluído! \nClique no botão abaixo para garantir sua inscrição!
URL:https://belportas.com.br/treinamentos/treinamento-centrais-collective/
LOCATION:Bel Portas Petrópolis\, R. Hyvio Naliato\, 559 - Cascatinha\, Petrópolis\, Rio de Janeiro\, 25710-193\, Brasil
ATTACH;FMTTYPE=image/jpeg:https://belportas.com.br/wp-content/uploads/2024/08/treinamentos-belportas1600-x-900-px-356-x-200-px-4.jpg
END:VEVENT
BEGIN:VEVENT
DTSTART;TZID=UTC:20240828T090000
DTEND;TZID=UTC:20240828T160000
DTSTAMP:20260423T171802
CREATED:20240813T140951Z
LAST-MODIFIED:20240813T140951Z
UID:1910-1724835600-1724860800@belportas.com.br
SUMMARY:Treinamento Centrais Collective I
DESCRIPTION:Caro amigo instalador\, \nVenha participar do próximo treinamento “Treinamento Centrais Collective I” Intelbras\, na nossa unidade de Volta Redonda. \nCom almoço e certificado incluídos! \nClique no botão abaixo para garantir sua inscrição!
URL:https://belportas.com.br/treinamentos/treinamento-centrais-collective-i/
LOCATION:BelPortas Volta Redonda Novo Endereço\, Rua Cincinato Braga 120\, Aterrado\, Volta Redonda\, Rio de Janeiro\, 27.213-040\, Brasil
ATTACH;FMTTYPE=image/jpeg:https://belportas.com.br/wp-content/uploads/2024/08/45.jpg
END:VEVENT
BEGIN:VEVENT
DTSTART;TZID=UTC:20240827T090000
DTEND;TZID=UTC:20240827T160000
DTSTAMP:20260423T171802
CREATED:20240806T130724Z
LAST-MODIFIED:20240806T131017Z
UID:1892-1724749200-1724774400@belportas.com.br
SUMMARY:Treinamento Rossi
DESCRIPTION:Caro amigo instalador\, \nVenha participar do próximo treinamento “Rossi”\, na nossa unidade de Araruama. \nCom almoço incluído! \nClique no botão abaixo para garantir sua inscrição!
URL:https://belportas.com.br/treinamentos/treinamento-rossi-araruama/
LOCATION:BelPortas Araruama\, Av. Getúlio Vargas\, 1198 - Loja 102 - Parque Hotel\, Araruama\, Rio de Janeiro\, 28979-971\, Brasil
ATTACH;FMTTYPE=image/jpeg:https://belportas.com.br/wp-content/uploads/2024/08/treinamentos-belportas1600-x-900-px-356-x-200-px-10.jpg
END:VEVENT
BEGIN:VEVENT
DTSTART;TZID=UTC:20240826T090000
DTEND;TZID=UTC:20240826T160000
DTSTAMP:20260423T171802
CREATED:20240709T184132Z
LAST-MODIFIED:20240709T184132Z
UID:1836-1724662800-1724688000@belportas.com.br
SUMMARY:Treinamento Rossi
DESCRIPTION:Caro amigo instalador\, \nVenha participar do próximo treinamento “Rossi”\, na nossa unidade de Cabo Frio. \nCom almoço incluído! \nClique no botão abaixo para garantir sua inscrição!
URL:https://belportas.com.br/treinamentos/treinamento-rossi/
LOCATION:Rio de Janeiro
ATTACH;FMTTYPE=image/jpeg:https://belportas.com.br/wp-content/uploads/2024/07/treinamentos-belportas1600-x-900-px-356-x-200-px.jpg
END:VEVENT
BEGIN:VEVENT
DTSTART;TZID=UTC:20240820T090000
DTEND;TZID=UTC:20240820T160000
DTSTAMP:20260423T171802
CREATED:20240813T140516Z
LAST-MODIFIED:20240813T140803Z
UID:1907-1724144400-1724169600@belportas.com.br
SUMMARY:Treinamento Fibra Óptica para CFTV IP
DESCRIPTION:Caro amigo instalador\, \nVenha participar do próximo treinamento “Treinamento Fibra Óptica para CFTV IP” Intelbras\, na nossa unidade de Volta Redonda. \nCom almoço e certificado incluídos! \nClique no botão abaixo para garantir sua inscrição!
URL:https://belportas.com.br/treinamentos/treinamento-fibra-optica-para-cftv-ip/
LOCATION:BelPortas Volta Redonda Novo Endereço\, Rua Cincinato Braga 120\, Aterrado\, Volta Redonda\, Rio de Janeiro\, 27.213-040\, Brasil
ATTACH;FMTTYPE=image/jpeg:https://belportas.com.br/wp-content/uploads/2024/08/44.jpg
END:VEVENT
BEGIN:VEVENT
DTSTART;TZID=UTC:20240812T080000
DTEND;TZID=UTC:20240814T170000
DTSTAMP:20260423T171802
CREATED:20240801T201238Z
LAST-MODIFIED:20240801T201238Z
UID:1851-1723449600-1723654800@belportas.com.br
SUMMARY:Treinamento Certificação de Sistema de CFTV-IP
DESCRIPTION:Caro amigo instalador\, \nVenha participar do próximo treinamento “Treinamento Certificação de Sistema de CFTV-IP” Intelbras\, na nossa unidade de Volta Redonda. \nCom almoço incluído! \nClique no botão abaixo para garantir sua inscrição!
URL:https://belportas.com.br/treinamentos/treinamento-certificacao-de-sistema-de-cftv-ip/
LOCATION:BelPortas Volta Redonda Novo Endereço\, Rua Cincinato Braga 120\, Aterrado\, Volta Redonda\, Rio de Janeiro\, 27.213-040\, Brasil
ATTACH;FMTTYPE=image/jpeg:https://belportas.com.br/wp-content/uploads/2024/08/treinamentos-belportas1600-x-900-px-356-x-200-px-8.jpg
END:VEVENT
BEGIN:VEVENT
DTSTART;TZID=UTC:20240731T140000
DTEND;TZID=UTC:20240731T170000
DTSTAMP:20260423T171802
CREATED:20240726T121859Z
LAST-MODIFIED:20240726T121859Z
UID:1841-1722434400-1722445200@belportas.com.br
SUMMARY:Apresentação de Drones
DESCRIPTION:Caro amigo instalador\, \nVenha participar da Apresentação de Drones da DJI\, com participação do Time Intelbras. \nClique no botão abaixo para garantir sua inscrição!
URL:https://belportas.com.br/treinamentos/apresentacao-de-drones/
LOCATION:BelPortas Nova Friburgo\, Alameda Barão de Nova Friburgo\, 135 - Olaria\, Nova Friburgo\, RJ\, 28623-060\, Brasil
ATTACH;FMTTYPE=image/jpeg:https://belportas.com.br/wp-content/uploads/2024/07/treinamentos-belportas1600-x-900-px-356-x-200-px-1.jpg
END:VEVENT
BEGIN:VEVENT
DTSTART;TZID=UTC:20240620T090000
DTEND;TZID=UTC:20240620T160000
DTSTAMP:20260423T171802
CREATED:20240524T133703Z
LAST-MODIFIED:20240524T133703Z
UID:1763-1718874000-1718899200@belportas.com.br
SUMMARY:Treinamento de Redes e Sistemas SFTV-IP
DESCRIPTION:Caro amigo instalador\, \nVenha participar do próximo treinamento “Redes e Sistemas SFTV-IP” Intelbras\, na nossa unidade de Cabo Frio. \nCom almoço incluído! \nClique no botão abaixo para garantir sua inscrição!
URL:https://belportas.com.br/treinamentos/treinamento-de-redes-e-sistemas-sftv-ip/
LOCATION:BelPortas Cabo Frio\, R. Los Angeles\, 70 – Loja 1 – Jardim Olinda\, Cabo Frio\, Rio de Janeiro\, 28911-050\, Brasil
ATTACH;FMTTYPE=image/jpeg:https://belportas.com.br/wp-content/uploads/2024/05/treinamentos-belportas1600-x-900-px-356-x-200-px-13.jpg
END:VEVENT
BEGIN:VEVENT
DTSTART;TZID=UTC:20240523T090000
DTEND;TZID=UTC:20240523T160000
DTSTAMP:20260423T171802
CREATED:20240308T142329Z
LAST-MODIFIED:20240308T142329Z
UID:1741-1716454800-1716480000@belportas.com.br
SUMMARY:Treinamento Soluções para Casa Inteligente
DESCRIPTION:Caro amigo instalador\, \nVenha participar do próximo treinamento “Soluções para Casa Inteligente” Intelbras\, na nossa unidade de Petrópolis. \nCom almoço incluído! \nClique no botão abaixo para garantir sua inscrição!
URL:https://belportas.com.br/treinamentos/treinamento-solucoes-para-casa-inteligente/
LOCATION:Bel Portas Petrópolis\, R. Hyvio Naliato\, 559 - Cascatinha\, Petrópolis\, Rio de Janeiro\, 25710-193\, Brasil
ATTACH;FMTTYPE=image/jpeg:https://belportas.com.br/wp-content/uploads/2024/03/treinamentos-belportas1600-x-900-px-356-x-200-px-11.jpg
END:VEVENT
BEGIN:VEVENT
DTSTART;TZID=UTC:20240522T090000
DTEND;TZID=UTC:20240522T160000
DTSTAMP:20260423T171802
CREATED:20240308T142039Z
LAST-MODIFIED:20240308T142157Z
UID:1738-1716368400-1716393600@belportas.com.br
SUMMARY:Treinamento Especialista em Vendas de Soluções Empresariais
DESCRIPTION:Caro amigo instalador\, \nVenha participar do próximo treinamento “Especialista em Vendas de Soluções Empresariais” Intelbras\, na nossa unidade de Petrópolis. \nCom almoço incluído! \nClique no botão abaixo para garantir sua inscrição!
URL:https://belportas.com.br/treinamentos/treinamento-especialista-em-vendas-de-solucoes-empresariais/
LOCATION:Bel Portas Petrópolis\, R. Hyvio Naliato\, 559 - Cascatinha\, Petrópolis\, Rio de Janeiro\, 25710-193\, Brasil
ATTACH;FMTTYPE=image/jpeg:https://belportas.com.br/wp-content/uploads/2024/03/treinamentos-belportas1600-x-900-px-356-x-200-px-12.jpg
END:VEVENT
BEGIN:VEVENT
DTSTART;TZID=UTC:20240521T090000
DTEND;TZID=UTC:20240521T160000
DTSTAMP:20260423T171802
CREATED:20240308T140913Z
LAST-MODIFIED:20240308T140913Z
UID:1733-1716282000-1716307200@belportas.com.br
SUMMARY:Treinamento Especialista em vendas de soluções para CONDOMÍNIOS
DESCRIPTION:Caro amigo instalador\, \nVenha participar do próximo treinamento “Especialista em vendas de soluções para CONDOMÍNIOS ” Intelbras\, em Volta Redonda\, no Restaurante Anexo Aterrado. \nLocal: Restaurante anexo do bairro aterrado\nEndereço: R. Pedro Maria Neto\, 154 – Aterrado\, Volta Redonda – RJ \nCom almoço e certificado! \nClique no botão abaixo para garantir sua inscrição!
URL:https://belportas.com.br/treinamentos/treinamento-especialista-em-vendas-de-solucoes-para-condominios/
LOCATION:BelPortas Volta Redonda\, R. Luiz Alves Pereira\, 377 – Aterrado\,\, Volta Redonda\, Rio de Janeiro\, 27313-140\, Brasil
ATTACH;FMTTYPE=image/jpeg:https://belportas.com.br/wp-content/uploads/2024/03/treinamentos-belportas1600-x-900-px-356-x-200-px-10.jpg
END:VEVENT
BEGIN:VEVENT
DTSTART;TZID=UTC:20240520T090000
DTEND;TZID=UTC:20240520T160000
DTSTAMP:20260423T171802
CREATED:20240205T193635Z
LAST-MODIFIED:20240308T140738Z
UID:1643-1716195600-1716220800@belportas.com.br
SUMMARY:Treinamento Especialista em Vendas de Soluções para CASA INTELIGENTE Intelbras
DESCRIPTION:Caro amigo instalador\, \nVenha participar do próximo treinamento “Especialista em Vendas de Soluções para CASA INTELIGENTE” Intelbras\, em Volta Redonda\, no Restaurante Anexo Aterrado. \nLocal: Restaurante anexo do bairro aterrado\nEndereço: R. Pedro Maria Neto\, 154 – Aterrado\, Volta Redonda – RJ \nCom almoço e certificado! \nClique no botão abaixo para garantir sua inscrição!
URL:https://belportas.com.br/treinamentos/treinamento-casa-inteligente-intelbras/
LOCATION:BelPortas Volta Redonda\, R. Luiz Alves Pereira\, 377 – Aterrado\,\, Volta Redonda\, Rio de Janeiro\, 27313-140\, Brasil
ATTACH;FMTTYPE=image/jpeg:https://belportas.com.br/wp-content/uploads/2024/02/treinamentos-belportas1600-x-900-px-356-x-200-px-9.jpg
END:VEVENT
BEGIN:VEVENT
DTSTART;TZID=UTC:20240327T090000
DTEND;TZID=UTC:20240327T170000
DTSTAMP:20260423T171802
CREATED:20240311T142522Z
LAST-MODIFIED:20240311T142522Z
UID:1754-1711530000-1711558800@belportas.com.br
SUMMARY:Treinamento Detecção de Alarme e Incêndio Intelbras
DESCRIPTION:Caro amigo instalador\, \nVenha participar do próximo treinamento “Detecção de Alarme e Incêndio” Intelbras\, na nossa unidade de Cabo Frio. \nCom almoço incluído! \nClique no botão abaixo para garantir sua inscrição!
URL:https://belportas.com.br/treinamentos/treinamento-deteccao-de-alarme-e-incendio-intelbras/
LOCATION:BelPortas Cabo Frio\, R. Los Angeles\, 70 – Loja 1 – Jardim Olinda\, Cabo Frio\, Rio de Janeiro\, 28911-050\, Brasil
ATTACH;FMTTYPE=image/jpeg:https://belportas.com.br/wp-content/uploads/2024/03/17.jpg
END:VEVENT
BEGIN:VEVENT
DTSTART;TZID=UTC:20240327T090000
DTEND;TZID=UTC:20240327T160000
DTSTAMP:20260423T171802
CREATED:20240219T195834Z
LAST-MODIFIED:20240219T200240Z
UID:1697-1711530000-1711555200@belportas.com.br
SUMMARY:Treinamento Sistema de Detecção de Alarme e Incêndio
DESCRIPTION:Caro amigo instalador\, \nVenha participar do próximo treinamento “Sistema de Detecção de Alarme e Incêndio” Intelbras\, na nossa unidade de Cabo Frio. \nO curso visa capacitar profissionais para identificar e diferenciar os diferentes dispositivos de alarme de incêndio e iluminação \nde emergência\, bem como preparar o aluno para a comercialização da linha. \nCom almoço incluído! \nClique no botão abaixo para garantir sua inscrição!
URL:https://belportas.com.br/treinamentos/treinamento-sistema-de-deteccao-de-alarme-e-incendio-cabo-frio/
LOCATION:BelPortas Cabo Frio\, R. Los Angeles\, 70 – Loja 1 – Jardim Olinda\, Cabo Frio\, Rio de Janeiro\, 28911-050\, Brasil
ATTACH;FMTTYPE=image/jpeg:https://belportas.com.br/wp-content/uploads/2024/02/treinamentos-belportas1600-x-900-px-356-x-200-px-2-1.jpg
END:VEVENT
BEGIN:VEVENT
DTSTART;TZID=UTC:20240326T090000
DTEND;TZID=UTC:20240326T170000
DTSTAMP:20260423T171802
CREATED:20240219T194257Z
LAST-MODIFIED:20240219T194257Z
UID:1690-1711443600-1711472400@belportas.com.br
SUMMARY:Treinamento Redes e Sistema de CFTV IP
DESCRIPTION:Caro amigo instalador\, \nVenha participar do próximo treinamento “Redes e Sistema de CFTV IP” Intelbras\, na nossa unidade de Nova Friburgo. \nCom almoço incluído! \nClique no botão abaixo para garantir sua inscrição!
URL:https://belportas.com.br/treinamentos/treinamento-redes-e-sistema-de-cftv-ip/
LOCATION:BelPortas Nova Friburgo\, Alameda Barão de Nova Friburgo\, 135 - Olaria\, Nova Friburgo\, RJ\, 28623-060\, Brasil
ATTACH;FMTTYPE=image/jpeg:https://belportas.com.br/wp-content/uploads/2024/02/treinamentos-belportas1600-x-900-px-356-x-200-px-2.jpg
END:VEVENT
END:VCALENDAR